BEGIN:VCALENDAR
VERSION:2.0
PRODID:spatie/icalendar-generator
DESCRIPTION:Évènements de Société Gymnastique Espérance Pfastatt
X-WR-CALDESC:Évènements de Société Gymnastique Espérance Pfastatt
REFRESH-INTERVAL;VALUE=DURATION:PT1440M
X-PUBLISHED-TTL:PT1440M
BEGIN:VTIMEZONE
TZID:Europe/Paris
BEGIN:DAYLIGHT
DTSTART:20250330T020000Z
TZOFFSETFROM:+0100
TZOFFSETTO:+0200
END:DAYLIGHT
BEGIN:STANDARD
DTSTART:20251026T030000Z
TZOFFSETFROM:+0200
TZOFFSETTO:+0100
END:STANDARD
END:VTIMEZONE
BEGIN:VTIMEZONE
TZID:UTC
BEGIN:STANDARD
DTSTART:20250729T142714Z
TZOFFSETFROM:+0000
TZOFFSETTO:+0000
END:STANDARD
END:VTIMEZONE
BEGIN:VEVENT
UID:35-35
DTSTAMP:20260425T142714Z
SUMMARY:Stage individuelles Nationales et Fed (secteur compétition)
LOCATION:
ORGANIZER;CN=Serge Schmitt:MAILTO:serge.schmitt@fschmitt.eu
DTSTART;TZID=Europe/Paris;VALUE=DATE:20250818
DTEND;TZID=Europe/Paris;VALUE=DATE:20250830
X-ALT-DESC;FMTTYPE=TEXT/HTML:Stage individuelles Nationales et Fed (secteur
  compétition)
CATEGORIES:General
URL;VALUE=URI:https://www.grpfastatt.fr/mc-events/stage-individuelles-natio
 nales-et-fed-secteur-competition-2/
METHOD:PUBLISH
END:VEVENT
END:VCALENDAR